BEGIN:VCALENDAR
VERSION:2.0
PRODID:-//Tukios.com/
BEGIN:VEVENT
UID:1910a126-b7cb-4e98-b073-977b202df614@www.pn-fh.com
DTSTAMP:20260421T211246Z
DTSTART:20260424T180000Z
DTEND:20260424T200000Z
SUMMARY:Funeral Service
DESCRIPTION:
URL:https://www.pn-fh.com/obituaries/dr-martin-marty-marriot
LOCATION: 792 Milford St  Watertown WI 53094
GEO:43.1798758;-88.751362
END:VEVENT
END:VCALENDAR