BEGIN:VCALENDAR
VERSION:2.0
PRODID:-//Tukios.com/
BEGIN:VEVENT
UID:84020ddc-4017-49e2-b70e-dcbf3dd13068@www.pn-fh.com
DTSTAMP:20260421T212129Z
DTSTART:20260424T160000Z
DTEND:20260424T170000Z
SUMMARY:Visitation
DESCRIPTION:
URL:https://www.pn-fh.com/obituaries/dr-martin-marty-marriot
LOCATION: 792 Milford St  Watertown WI 53094
GEO:43.1798758;-88.751362
END:VEVENT
END:VCALENDAR