BEGIN:VCALENDAR
VERSION:2.0
PRODID:-//Tukios.com/
BEGIN:VEVENT
UID:abef6952-42c2-4fa2-8781-162b843c7370@www.pn-fh.com
DTSTAMP:20260421T211649Z
DTSTART:20260423T210000Z
DTEND:20260424T000000Z
SUMMARY:Visitation
DESCRIPTION:
URL:https://www.pn-fh.com/obituaries/dr-martin-marty-marriot
LOCATION: 792 Milford St  Watertown WI 53094
GEO:43.1798758;-88.751362
END:VEVENT
END:VCALENDAR