BEGIN:VCALENDAR
VERSION:2.0
PRODID:-//Tukios.com/
BEGIN:VEVENT
UID:24546f17-dbca-41a6-bf3f-4b80d80f27f7@www.pn-fh.com
DTSTAMP:20260425T202143Z
DTSTART:20260429T160000Z
DTEND:20260429T170000Z
SUMMARY:Funeral Service
DESCRIPTION:
URL:https://www.pn-fh.com/obituaries/doris-anderson
LOCATION: 792 Milford St  Watertown WI 53094
GEO:43.1798758;-88.751362
END:VEVENT
END:VCALENDAR