BEGIN:VCALENDAR
VERSION:2.0
PRODID:-//Tukios.com/
BEGIN:VEVENT
UID:7683e806-e516-48ed-9a09-b1c21c92ea09@www.pn-fh.com
DTSTAMP:20260425T201855Z
DTSTART:20260429T140000Z
DTEND:20260429T160000Z
SUMMARY:Visitation
DESCRIPTION:
URL:https://www.pn-fh.com/obituaries/doris-anderson
LOCATION: 792 Milford St  Watertown WI 53094
GEO:43.1798758;-88.751362
END:VEVENT
END:VCALENDAR